

BEGIN:VCALENDAR
VERSION:2.0
PRODID:-//UDC Suisse //NONSGML Events //EN
CALSCALE:GREGORIAN
X-WR-CALNAME:UDC Suisse
BEGIN:VEVENT
CREATED:20230919T110735Z
UID:121205
DTEND:20231028T170000
DTSTART:20231028T160000
DTSTAMP:20260421T042448Z
LOCATION:Büli Mäss\, Stadthalle Bülach
DESCRIPTION:
SUMMARY:UDC proche de vous avec le conseiller national Mauro Tuena
ORGANIZER:
URL;VALUE=URI:https://www.udc.ch/actualites/agenda/udc-proche-de-vous-avec-le-conseiller-national-mauro-tuena/
TRANSP:OPAQUE
END:VEVENT
END:VCALENDAR
