

BEGIN:VCALENDAR
VERSION:2.0
PRODID:-//UDC Suisse //NONSGML Events //EN
CALSCALE:GREGORIAN
X-WR-CALNAME:UDC Suisse
BEGIN:VEVENT
CREATED:20230919T110736Z
UID:121206
DTEND:20231003T180000
DTSTART:20231003T173000
DTSTAMP:20260421T061319Z
LOCATION:Vasco's Bar\, Zürich
DESCRIPTION:
SUMMARY:UDC proche de vous avec le conseiller national Alfred Heer et Thomas Matter
ORGANIZER:
URL;VALUE=URI:https://www.udc.ch/actualites/agenda/udc-proche-de-vous-avec-le-conseiller-national-alfred-heer-et-thomas-matter/
TRANSP:OPAQUE
END:VEVENT
END:VCALENDAR
