

BEGIN:VCALENDAR
VERSION:2.0
PRODID:-//UDC Suisse //NONSGML Events //EN
CALSCALE:GREGORIAN
X-WR-CALNAME:UDC Suisse
BEGIN:VEVENT
CREATED:20230919T110736Z
UID:121208
DTEND:20231013T190000
DTSTART:20231013T183000
DTSTAMP:20260421T041730Z
LOCATION:Gehrig Carrosserie AG\, Kleinandelfingen
DESCRIPTION:
SUMMARY:UDC proche de vous avec le conseiller national Thomas Matter
ORGANIZER:
URL;VALUE=URI:https://www.udc.ch/actualites/agenda/udc-proche-de-vous-avec-le-conseiller-national-thomas-matter-3/
TRANSP:OPAQUE
END:VEVENT
END:VCALENDAR
