

BEGIN:VCALENDAR
VERSION:2.0
PRODID:-//UDC Suisse //NONSGML Events //EN
CALSCALE:GREGORIAN
X-WR-CALNAME:UDC Suisse
BEGIN:VEVENT
CREATED:20230919T110736Z
UID:121212
DTEND:20231009T190000
DTSTART:20231009T183000
DTSTAMP:20260421T004534Z
LOCATION:Gemeindesaal\, Zollikon
DESCRIPTION:
SUMMARY:UDC proche de vous avec le conseiller national Gregor Rutz
ORGANIZER:
URL;VALUE=URI:https://www.udc.ch/actualites/agenda/udc-proche-de-vous-avec-le-conseiller-national-gregor-rutz-8/
TRANSP:OPAQUE
END:VEVENT
END:VCALENDAR
