

BEGIN:VCALENDAR
VERSION:2.0
PRODID:-//UDC Suisse //NONSGML Events //EN
CALSCALE:GREGORIAN
X-WR-CALNAME:UDC Suisse
BEGIN:VEVENT
CREATED:20231004T073020Z
UID:121397
DTEND:20231007T120000
DTSTART:20231007T113000
DTSTAMP:20260421T061329Z
LOCATION:A l’hangar de Christian Flükiger Chp Charbon 1\, 2950 Courgenay
DESCRIPTION:Flyer (PDF) 
SUMMARY:Pique-nique événement de campagne 2023
ORGANIZER:
URL;VALUE=URI:https://www.udc.ch/actualites/agenda/pique-nique-evenement-de-campagne-2023/
TRANSP:OPAQUE
END:VEVENT
END:VCALENDAR
