

BEGIN:VCALENDAR
VERSION:2.0
PRODID:-//UDC Suisse //NONSGML Events //EN
CALSCALE:GREGORIAN
X-WR-CALNAME:UDC Suisse
BEGIN:VEVENT
CREATED:20180703T131754Z
UID:12174
DTEND:20180703T180000
DTSTART:20180703T160000
DTSTAMP:20260420T213849Z
LOCATION:Zoug
DESCRIPTION:https://www.udc.ch/tour-des-cantons/
SUMMARY:Tour des Cantons avec Albert Rösti
ORGANIZER:
URL;VALUE=URI:https://www.udc.ch/actualites/agenda/tour-des-cantons/
TRANSP:OPAQUE
END:VEVENT
END:VCALENDAR
