

BEGIN:VCALENDAR
VERSION:2.0
PRODID:-//UDC Suisse //NONSGML Events //EN
CALSCALE:GREGORIAN
X-WR-CALNAME:UDC Suisse
BEGIN:VEVENT
CREATED:20180703T133438Z
UID:12179
DTEND:20180704T180000
DTSTART:20180704T160000
DTSTAMP:20260421T023849Z
LOCATION:Thurgovie\, Salle communautaire d'Aadorf
DESCRIPTION:https://www.udc.ch/tour-des-cantons/
SUMMARY:Tour des Cantons avec Albert Rösti
ORGANIZER:
URL;VALUE=URI:https://www.udc.ch/actualites/agenda/tour-des-cantons-2/
TRANSP:OPAQUE
END:VEVENT
END:VCALENDAR
