

BEGIN:VCALENDAR
VERSION:2.0
PRODID:-//UDC Suisse //NONSGML Events //EN
CALSCALE:GREGORIAN
X-WR-CALNAME:UDC Suisse
BEGIN:VEVENT
CREATED:20180703T133531Z
UID:12180
DTEND:20180705T180000
DTSTART:20180705T163000
DTSTAMP:20260421T004202Z
LOCATION:Berne à Köniz\, Bläuacker devant le café Scherz
DESCRIPTION:https://www.udc.ch/tour-des-cantons/
SUMMARY:Tour des Cantons avec Albert Rösti
ORGANIZER:
URL;VALUE=URI:https://www.udc.ch/actualites/agenda/tour-des-cantons-3/
TRANSP:OPAQUE
END:VEVENT
END:VCALENDAR
