

BEGIN:VCALENDAR
VERSION:2.0
PRODID:-//UDC Suisse //NONSGML Events //EN
CALSCALE:GREGORIAN
X-WR-CALNAME:UDC Suisse
BEGIN:VEVENT
CREATED:20180703T134153Z
UID:12182
DTEND:20180626T120000
DTSTART:20180626T100000
DTSTAMP:20260421T112632Z
LOCATION:Appenzell Rhodes-Extérieures à Schawägalp
DESCRIPTION:https://www.udc.ch/tour-des-cantons/
SUMMARY:Tour des Cantons avec Albert Rösti
ORGANIZER:
URL;VALUE=URI:https://www.udc.ch/actualites/agenda/tour-des-cantons-5/
TRANSP:OPAQUE
END:VEVENT
END:VCALENDAR
