

BEGIN:VCALENDAR
VERSION:2.0
PRODID:-//UDC Suisse //NONSGML Events //EN
CALSCALE:GREGORIAN
X-WR-CALNAME:UDC Suisse
BEGIN:VEVENT
CREATED:20180703T134508Z
UID:12190
DTEND:20180822T120000
DTSTART:20180822T100000
DTSTAMP:20260420T171930Z
LOCATION:Berne
DESCRIPTION:https://www.udc.ch/tour-des-cantons/
SUMMARY:Tour des Cantons avec Albert Rösti
ORGANIZER:
URL;VALUE=URI:https://www.udc.ch/actualites/agenda/tour-des-cantons-6/
TRANSP:OPAQUE
END:VEVENT
END:VCALENDAR
