

BEGIN:VCALENDAR
VERSION:2.0
PRODID:-//UDC Suisse //NONSGML Events //EN
CALSCALE:GREGORIAN
X-WR-CALNAME:UDC Suisse
BEGIN:VEVENT
CREATED:20231029T011542Z
UID:122675
DTEND:20231029T011500
DTSTART:20230801T203000
DTSTAMP:20260423T123938Z
LOCATION:Kleinbösingen
DESCRIPTION:
SUMMARY:UDC FR: Discours 1er août
ORGANIZER:
URL;VALUE=URI:https://www.udc.ch/actualites/agenda/udc-fr-discours-1er-aout-2/
TRANSP:OPAQUE
END:VEVENT
END:VCALENDAR
