

BEGIN:VCALENDAR
VERSION:2.0
PRODID:-//UDC Suisse //NONSGML Events //EN
CALSCALE:GREGORIAN
X-WR-CALNAME:UDC Suisse
BEGIN:VEVENT
CREATED:20231029T011542Z
UID:122676
DTEND:20231029T011500
DTSTART:20230331T200000
DTSTAMP:20260423T123528Z
LOCATION:Courrendlin
DESCRIPTION:
SUMMARY:UDC JU: Assemblée générale UDC Jura
ORGANIZER:
URL;VALUE=URI:https://www.udc.ch/actualites/agenda/udc-ju-assemblee-generale-udc-jura-2/
TRANSP:OPAQUE
END:VEVENT
END:VCALENDAR
