

BEGIN:VCALENDAR
VERSION:2.0
PRODID:-//UDC Suisse //NONSGML Events //EN
CALSCALE:GREGORIAN
X-WR-CALNAME:UDC Suisse
BEGIN:VEVENT
CREATED:20231029T011542Z
UID:122678
DTEND:20231029T011500
DTSTART:20231007T000000
DTSTAMP:20260423T123814Z
LOCATION:
DESCRIPTION:
SUMMARY:UDC JU: Pique-nique famille + événement Fédérales&#8217\;23
ORGANIZER:
URL;VALUE=URI:https://www.udc.ch/actualites/agenda/udc-ju-pique-nique-famille-evenement-federales23-2/
TRANSP:OPAQUE
END:VEVENT
END:VCALENDAR
