

BEGIN:VCALENDAR
VERSION:2.0
PRODID:-//UDC Suisse //NONSGML Events //EN
CALSCALE:GREGORIAN
X-WR-CALNAME:UDC Suisse
BEGIN:VEVENT
CREATED:20231029T011542Z
UID:122679
DTEND:20231029T011500
DTSTART:20230927T193000
DTSTAMP:20260423T123830Z
LOCATION:Hotel Taverna\, 1712 Tafers
DESCRIPTION:
SUMMARY:UDC FR: SVP bi de Lüt mit Adrian Amstutz
ORGANIZER:
URL;VALUE=URI:https://www.udc.ch/actualites/agenda/udc-fr-svp-bi-de-luet-mit-adrian-amstutz/
TRANSP:OPAQUE
END:VEVENT
END:VCALENDAR
