

BEGIN:VCALENDAR
VERSION:2.0
PRODID:-//UDC Suisse //NONSGML Events //EN
CALSCALE:GREGORIAN
X-WR-CALNAME:UDC Suisse
BEGIN:VEVENT
CREATED:20180711T122225Z
UID:12303
DTEND:20190105T000000
DTSTART:20190104T000000
DTSTAMP:20260421T131607Z
LOCATION:Horn (TG)
DESCRIPTION:
SUMMARY:Séminaire « Bad Horn »
ORGANIZER:
URL;VALUE=URI:https://www.udc.ch/actualites/agenda/seminaire-bad-horn-5/
TRANSP:OPAQUE
END:VEVENT
END:VCALENDAR
