

BEGIN:VCALENDAR
VERSION:2.0
PRODID:-//UDC Suisse //NONSGML Events //EN
CALSCALE:GREGORIAN
X-WR-CALNAME:UDC Suisse
BEGIN:VEVENT
CREATED:20180711T122732Z
UID:12305
DTEND:20190125T000000
DTSTART:20190125T000000
DTSTAMP:20260421T004338Z
LOCATION:
DESCRIPTION:
SUMMARY:Comité directeur / Comité du parti avec secrétaires cantonaux
ORGANIZER:
URL;VALUE=URI:https://www.udc.ch/actualites/agenda/comite-directeur-comite-du-parti-avec-secretaires-cantonaux-6/
TRANSP:OPAQUE
END:VEVENT
END:VCALENDAR
