

BEGIN:VCALENDAR
VERSION:2.0
PRODID:-//UDC Suisse //NONSGML Events //EN
CALSCALE:GREGORIAN
X-WR-CALNAME:UDC Suisse
BEGIN:VEVENT
CREATED:20180711T123221Z
UID:12307
DTEND:20190126T000000
DTSTART:20190126T000000
DTSTAMP:20260420T194336Z
LOCATION:
DESCRIPTION:
SUMMARY:Assemblée des délégués
ORGANIZER:
URL;VALUE=URI:https://www.udc.ch/actualites/agenda/assemblee-des-delegues-23/
TRANSP:OPAQUE
END:VEVENT
END:VCALENDAR
