

BEGIN:VCALENDAR
VERSION:2.0
PRODID:-//UDC Suisse //NONSGML Events //EN
CALSCALE:GREGORIAN
X-WR-CALNAME:UDC Suisse
BEGIN:VEVENT
CREATED:20231215T130331Z
UID:123082
DTEND:20240209T200000
DTSTART:20240209T190000
DTSTAMP:20260419T170429Z
LOCATION:Herbstzauber Eigengewächs-Beizli\, Wintersingerstrasse 4\, Maisprach
DESCRIPTION:
SUMMARY:UDC proche de vous avec la Conseillère nationale Sandra Sollberger et le Conseiller national Thomas de Courten
ORGANIZER:
URL;VALUE=URI:https://www.udc.ch/actualites/agenda/udc-proche-de-vous-avec-la-conseillere-nationale-sandra-sollberger-et-le-conseiller-national-thomas-de-courten-2/
TRANSP:OPAQUE
END:VEVENT
END:VCALENDAR
