

BEGIN:VCALENDAR
VERSION:2.0
PRODID:-//UDC Suisse //NONSGML Events //EN
CALSCALE:GREGORIAN
X-WR-CALNAME:UDC Suisse
BEGIN:VEVENT
CREATED:20180711T124144Z
UID:12309
DTEND:20190210T000000
DTSTART:20190210T000000
DTSTAMP:20260420T212921Z
LOCATION:
DESCRIPTION:
SUMMARY:Votations fédérales du 10 février 2019
ORGANIZER:
URL;VALUE=URI:https://www.udc.ch/actualites/agenda/votations-federales-du-10-fevrier-2019/
TRANSP:OPAQUE
END:VEVENT
END:VCALENDAR
