

BEGIN:VCALENDAR
VERSION:2.0
PRODID:-//UDC Suisse //NONSGML Events //EN
CALSCALE:GREGORIAN
X-WR-CALNAME:UDC Suisse
BEGIN:VEVENT
CREATED:20180711T125709Z
UID:12315
DTEND:20190223T000000
DTSTART:20190223T000000
DTSTAMP:20260420T214322Z
LOCATION:
DESCRIPTION:
SUMMARY:Coupe de jass
ORGANIZER:
URL;VALUE=URI:https://www.udc.ch/actualites/agenda/coupe-de-jass-4/
TRANSP:OPAQUE
END:VEVENT
END:VCALENDAR
