

BEGIN:VCALENDAR
VERSION:2.0
PRODID:-//UDC Suisse //NONSGML Events //EN
CALSCALE:GREGORIAN
X-WR-CALNAME:UDC Suisse
BEGIN:VEVENT
CREATED:20180711T130620Z
UID:12318
DTEND:20190316T000000
DTSTART:20190304T000000
DTSTAMP:20260420T134631Z
LOCATION:Berne
DESCRIPTION:
SUMMARY:Session de printemps
ORGANIZER:
URL;VALUE=URI:https://www.udc.ch/actualites/agenda/session-de-printemps-4/
TRANSP:OPAQUE
END:VEVENT
END:VCALENDAR
