

BEGIN:VCALENDAR
VERSION:2.0
PRODID:-//UDC Suisse //NONSGML Events //EN
CALSCALE:GREGORIAN
X-WR-CALNAME:UDC Suisse
BEGIN:VEVENT
CREATED:20180711T132216Z
UID:12324
DTEND:20190312T000000
DTSTART:20190312T000000
DTSTAMP:20260420T171921Z
LOCATION:Berne
DESCRIPTION:
SUMMARY:Rencontre avec les présidents de groupe cantonaux
ORGANIZER:
URL;VALUE=URI:https://www.udc.ch/actualites/agenda/rencontre-avec-les-presidents-de-groupe-cantonaux-5/
TRANSP:OPAQUE
END:VEVENT
END:VCALENDAR
