

BEGIN:VCALENDAR
VERSION:2.0
PRODID:-//UDC Suisse //NONSGML Events //EN
CALSCALE:GREGORIAN
X-WR-CALNAME:UDC Suisse
BEGIN:VEVENT
CREATED:20180711T132650Z
UID:12326
DTEND:20190312T000000
DTSTART:20190312T000000
DTSTAMP:20260420T190450Z
LOCATION:Berne
DESCRIPTION:
SUMMARY:Comité directeur
ORGANIZER:
URL;VALUE=URI:https://www.udc.ch/actualites/agenda/comite-directeur-5/
TRANSP:OPAQUE
END:VEVENT
END:VCALENDAR
