

BEGIN:VCALENDAR
VERSION:2.0
PRODID:-//UDC Suisse //NONSGML Events //EN
CALSCALE:GREGORIAN
X-WR-CALNAME:UDC Suisse
BEGIN:VEVENT
CREATED:20180711T132923Z
UID:12328
DTEND:20190318T000000
DTSTART:20190318T000000
DTSTAMP:20260420T172115Z
LOCATION:Berne
DESCRIPTION:
SUMMARY:Rencontre avec les juges fédéraux
ORGANIZER:
URL;VALUE=URI:https://www.udc.ch/actualites/agenda/rencontre-avec-les-juges-federaux-4/
TRANSP:OPAQUE
END:VEVENT
END:VCALENDAR
