

BEGIN:VCALENDAR
VERSION:2.0
PRODID:-//UDC Suisse //NONSGML Events //EN
CALSCALE:GREGORIAN
X-WR-CALNAME:UDC Suisse
BEGIN:VEVENT
CREATED:20180711T134817Z
UID:12330
DTEND:20190319T000000
DTSTART:20190319T000000
DTSTAMP:20260420T171807Z
LOCATION:Berne
DESCRIPTION:
SUMMARY:ev. séance du groupe
ORGANIZER:
URL;VALUE=URI:https://www.udc.ch/actualites/agenda/ev-seance-du-groupe-17/
TRANSP:OPAQUE
END:VEVENT
END:VCALENDAR
