

BEGIN:VCALENDAR
VERSION:2.0
PRODID:-//UDC Suisse //NONSGML Events //EN
CALSCALE:GREGORIAN
X-WR-CALNAME:UDC Suisse
BEGIN:VEVENT
CREATED:20180711T135740Z
UID:12334
DTEND:20190330T000000
DTSTART:20190330T000000
DTSTAMP:20260420T172015Z
LOCATION:
DESCRIPTION:
SUMMARY:Assemblée des délégués
ORGANIZER:
URL;VALUE=URI:https://www.udc.ch/actualites/agenda/assemblee-des-delegues-24/
TRANSP:OPAQUE
END:VEVENT
END:VCALENDAR
