

BEGIN:VCALENDAR
VERSION:2.0
PRODID:-//UDC Suisse //NONSGML Events //EN
CALSCALE:GREGORIAN
X-WR-CALNAME:UDC Suisse
BEGIN:VEVENT
CREATED:20180711T140216Z
UID:12336
DTEND:20190406T000000
DTSTART:20190406T000000
DTSTAMP:20260421T003930Z
LOCATION:
DESCRIPTION:
SUMMARY:Rencontre avec les conseillers d’Etat
ORGANIZER:
URL;VALUE=URI:https://www.udc.ch/actualites/agenda/rencontre-avec-les-conseillers-detat-4/
TRANSP:OPAQUE
END:VEVENT
END:VCALENDAR
