

BEGIN:VCALENDAR
VERSION:2.0
PRODID:-//UDC Suisse //NONSGML Events //EN
CALSCALE:GREGORIAN
X-WR-CALNAME:UDC Suisse
BEGIN:VEVENT
CREATED:20180711T141329Z
UID:12340
DTEND:20190510T000000
DTSTART:20190506T000000
DTSTAMP:20260420T172110Z
LOCATION:Berne
DESCRIPTION:
SUMMARY:ev. session spéciale
ORGANIZER:
URL;VALUE=URI:https://www.udc.ch/actualites/agenda/ev-session-speciale-5/
TRANSP:OPAQUE
END:VEVENT
END:VCALENDAR
