

BEGIN:VCALENDAR
VERSION:2.0
PRODID:-//UDC Suisse //NONSGML Events //EN
CALSCALE:GREGORIAN
X-WR-CALNAME:UDC Suisse
BEGIN:VEVENT
CREATED:20180711T142136Z
UID:12344
DTEND:20190519T000000
DTSTART:20190519T000000
DTSTAMP:20260420T190351Z
LOCATION:
DESCRIPTION:
SUMMARY:Votations fédérales du 19 mai 2019
ORGANIZER:
URL;VALUE=URI:https://www.udc.ch/actualites/agenda/votations-federales-du-19-mai-2019/
TRANSP:OPAQUE
END:VEVENT
END:VCALENDAR
