

BEGIN:VCALENDAR
VERSION:2.0
PRODID:-//UDC Suisse //NONSGML Events //EN
CALSCALE:GREGORIAN
X-WR-CALNAME:UDC Suisse
BEGIN:VEVENT
CREATED:20180711T143424Z
UID:12350
DTEND:20190621T000000
DTSTART:20190603T000000
DTSTAMP:20260420T194131Z
LOCATION:Berne
DESCRIPTION:
SUMMARY:Session d&rsquo\;été
ORGANIZER:
URL;VALUE=URI:https://www.udc.ch/actualites/agenda/session-dete-5/
TRANSP:OPAQUE
END:VEVENT
END:VCALENDAR
