

BEGIN:VCALENDAR
VERSION:2.0
PRODID:-//UDC Suisse //NONSGML Events //EN
CALSCALE:GREGORIAN
X-WR-CALNAME:UDC Suisse
BEGIN:VEVENT
CREATED:20180711T143833Z
UID:12354
DTEND:20190611T000000
DTSTART:20190611T000000
DTSTAMP:20260421T023809Z
LOCATION:Berne
DESCRIPTION:
SUMMARY:Comité du groupe / Séance du groupe
ORGANIZER:
URL;VALUE=URI:https://www.udc.ch/actualites/agenda/comite-du-groupe-seance-du-groupe-46/
TRANSP:OPAQUE
END:VEVENT
END:VCALENDAR
