

BEGIN:VCALENDAR
VERSION:2.0
PRODID:-//UDC Suisse //NONSGML Events //EN
CALSCALE:GREGORIAN
X-WR-CALNAME:UDC Suisse
BEGIN:VEVENT
CREATED:20180711T144414Z
UID:12359
DTEND:20190618T000000
DTSTART:20190618T000000
DTSTAMP:20260421T004117Z
LOCATION:Berne
DESCRIPTION:
SUMMARY:ev. séance du groupe
ORGANIZER:
URL;VALUE=URI:https://www.udc.ch/actualites/agenda/ev-seance-du-groupe-18/
TRANSP:OPAQUE
END:VEVENT
END:VCALENDAR
