

BEGIN:VCALENDAR
VERSION:2.0
PRODID:-//UDC Suisse //NONSGML Events //EN
CALSCALE:GREGORIAN
X-WR-CALNAME:UDC Suisse
BEGIN:VEVENT
CREATED:20180711T145634Z
UID:12365
DTEND:20190816T200000
DTSTART:20190816T193000
DTSTAMP:20260420T194635Z
LOCATION:
DESCRIPTION:
SUMMARY:Assemblée générale UDC International
ORGANIZER:
URL;VALUE=URI:https://www.udc.ch/actualites/agenda/ag-udc-international-4/
TRANSP:OPAQUE
END:VEVENT
END:VCALENDAR
