

BEGIN:VCALENDAR
VERSION:2.0
PRODID:-//UDC Suisse //NONSGML Events //EN
CALSCALE:GREGORIAN
X-WR-CALNAME:UDC Suisse
BEGIN:VEVENT
CREATED:20180711T152719Z
UID:12377
DTEND:20190927T000000
DTSTART:20190909T000000
DTSTAMP:20260420T184251Z
LOCATION:Berne
DESCRIPTION:
SUMMARY:Session d&rsquo\;automne
ORGANIZER:
URL;VALUE=URI:https://www.udc.ch/actualites/agenda/session-dautomne-5/
TRANSP:OPAQUE
END:VEVENT
END:VCALENDAR
