

BEGIN:VCALENDAR
VERSION:2.0
PRODID:-//UDC Suisse //NONSGML Events //EN
CALSCALE:GREGORIAN
X-WR-CALNAME:UDC Suisse
BEGIN:VEVENT
CREATED:20180712T065234Z
UID:12387
DTEND:20191020T000000
DTSTART:20191020T000000
DTSTAMP:20260421T041837Z
LOCATION:
DESCRIPTION:
SUMMARY:Votations fédérales du 20 octobre 2019
ORGANIZER:
URL;VALUE=URI:https://www.udc.ch/actualites/agenda/votations-federales-du-20-octobre-2019/
TRANSP:OPAQUE
END:VEVENT
END:VCALENDAR
