

BEGIN:VCALENDAR
VERSION:2.0
PRODID:-//UDC Suisse //NONSGML Events //EN
CALSCALE:GREGORIAN
X-WR-CALNAME:UDC Suisse
BEGIN:VEVENT
CREATED:20180712T065513Z
UID:12391
DTEND:20191102T000000
DTSTART:20191102T000000
DTSTAMP:20260420T213627Z
LOCATION:
DESCRIPTION:
SUMMARY:Assemblée des délégués
ORGANIZER:
URL;VALUE=URI:https://www.udc.ch/actualites/agenda/assemblee-des-delegues-27/
TRANSP:OPAQUE
END:VEVENT
END:VCALENDAR
