

BEGIN:VCALENDAR
VERSION:2.0
PRODID:-//UDC Suisse //NONSGML Events //EN
CALSCALE:GREGORIAN
X-WR-CALNAME:UDC Suisse
BEGIN:VEVENT
CREATED:20180712T070008Z
UID:12399
DTEND:20191220T000000
DTSTART:20191202T000000
DTSTAMP:20260420T171837Z
LOCATION:Berne
DESCRIPTION:
SUMMARY:Session d&rsquo\;hiver
ORGANIZER:
URL;VALUE=URI:https://www.udc.ch/actualites/agenda/session-dhiver-5/
TRANSP:OPAQUE
END:VEVENT
END:VCALENDAR
