

BEGIN:VCALENDAR
VERSION:2.0
PRODID:-//UDC Suisse //NONSGML Events //EN
CALSCALE:GREGORIAN
X-WR-CALNAME:UDC Suisse
BEGIN:VEVENT
CREATED:20180821T120531Z
UID:12613
DTEND:20180831T110000
DTSTART:20180831T090000
DTSTAMP:20260421T061213Z
LOCATION:Vaud
DESCRIPTION:https://www.udc.ch/tour-des-cantons/
SUMMARY:Tour des Cantons avec Albert Rösti
ORGANIZER:
URL;VALUE=URI:https://www.udc.ch/actualites/agenda/tour-des-cantons-avec-albert-rosti-3/
TRANSP:OPAQUE
END:VEVENT
END:VCALENDAR
