

BEGIN:VCALENDAR
VERSION:2.0
PRODID:-//UDC Suisse //NONSGML Events //EN
CALSCALE:GREGORIAN
X-WR-CALNAME:UDC Suisse
BEGIN:VEVENT
CREATED:20240923T094435Z
UID:126189
DTEND:20241003T200000
DTSTART:20241003T193000
DTSTAMP:20260421T094756Z
LOCATION:Cabane forestière\, 2802 Develier
DESCRIPTION:
SUMMARY:UDC proche de vous avec Conseiller Thomas Stettler
ORGANIZER:
URL;VALUE=URI:https://www.udc.ch/actualites/agenda/udc-proche-de-vous-avec-conseiller-thomas-stettler-3/
TRANSP:OPAQUE
END:VEVENT
END:VCALENDAR
