

BEGIN:VCALENDAR
VERSION:2.0
PRODID:-//UDC Suisse //NONSGML Events //EN
CALSCALE:GREGORIAN
X-WR-CALNAME:UDC Suisse
BEGIN:VEVENT
CREATED:20241218T093503Z
UID:126997
DTEND:20250110T190000
DTSTART:20250110T180000
DTSTAMP:20260421T112836Z
LOCATION:Menzi Muck AG\, 9464 Rüthi SG
DESCRIPTION:
SUMMARY:UDC proche de vous avec le Conseiller national Roland Rino Büchel
ORGANIZER:
URL;VALUE=URI:https://www.udc.ch/actualites/agenda/udc-proche-de-vous-avec-le-conseiller-national-roland-rino-buchel-2/
TRANSP:OPAQUE
END:VEVENT
END:VCALENDAR
