

BEGIN:VCALENDAR
VERSION:2.0
PRODID:-//UDC Suisse //NONSGML Events //EN
CALSCALE:GREGORIAN
X-WR-CALNAME:UDC Suisse
BEGIN:VEVENT
CREATED:20250319T131002Z
UID:127613
DTEND:20250321T220000
DTSTART:20250321T183000
DTSTAMP:20260421T011426Z
LOCATION:Sunshine Hill\, 8712 Stäfa
DESCRIPTION:
SUMMARY:UDC proche de vous avec la Conseillere national Nina Fehr Düsel et le ancien Conseiller fédéral Ueli Maurer
ORGANIZER:
URL;VALUE=URI:https://www.udc.ch/actualites/agenda/udc-proche-de-vous-avec-la-conseillere-national-nina-fehr-dusel-et-le-ancien-conseiller-federal-ueli-maurer/
TRANSP:OPAQUE
END:VEVENT
END:VCALENDAR
