

BEGIN:VCALENDAR
VERSION:2.0
PRODID:-//UDC Suisse //NONSGML Events //EN
CALSCALE:GREGORIAN
X-WR-CALNAME:UDC Suisse
BEGIN:VEVENT
CREATED:20250327T073845Z
UID:127744
DTEND:20250328T190000
DTSTART:20250328T173000
DTSTAMP:20260419T130047Z
LOCATION:Pl. de la Palud\, 1003 Lausanne
DESCRIPTION:Cervelas et verre de l’amitié à partager avec la population et les
SUMMARY:UDC proche de vous: Rendez-vous à Lausanne
ORGANIZER:
URL;VALUE=URI:https://www.udc.ch/actualites/agenda/udc-proche-de-vous-rendez-vous-a-lausanne/
TRANSP:OPAQUE
END:VEVENT
END:VCALENDAR
