

BEGIN:VCALENDAR
VERSION:2.0
PRODID:-//UDC Suisse //NONSGML Events //EN
CALSCALE:GREGORIAN
X-WR-CALNAME:UDC Suisse
BEGIN:VEVENT
CREATED:20180924T083352Z
UID:12879
DTEND:20181012T200000
DTSTART:20181012T193000
DTSTAMP:20260421T042313Z
LOCATION:Salle polyvalente\, 1933 Sembrancher
DESCRIPTION:
SUMMARY:Rapport de session avec Jean-Luc Addor
ORGANIZER:
URL;VALUE=URI:https://www.udc.ch/actualites/agenda/rapport-de-session-avec-jean-luc-addor-4/
TRANSP:OPAQUE
END:VEVENT
END:VCALENDAR
