

BEGIN:VCALENDAR
VERSION:2.0
PRODID:-//UDC Suisse //NONSGML Events //EN
CALSCALE:GREGORIAN
X-WR-CALNAME:UDC Suisse
BEGIN:VEVENT
CREATED:20180924T083705Z
UID:12881
DTEND:20181002T200000
DTSTART:20181002T190000
DTSTAMP:20260420T114658Z
LOCATION:Restaurant de la Douane\, Avenue de Billens 2\, 1510 Moudon
DESCRIPTION:
SUMMARY:Rapport de session avec Michaël Buffat\, Alice Glauser\, Jean-Pierre Grin et Jacques Nicolet
ORGANIZER:
URL;VALUE=URI:https://www.udc.ch/actualites/agenda/rapport-de-session-avec-michael-buffat-alice-glauser-jean-pierre-grin-et-jacques-nicolet-4/
TRANSP:OPAQUE
END:VEVENT
END:VCALENDAR
