

BEGIN:VCALENDAR
VERSION:2.0
PRODID:-//UDC Suisse //NONSGML Events //EN
CALSCALE:GREGORIAN
X-WR-CALNAME:UDC Suisse
BEGIN:VEVENT
CREATED:20180924T083954Z
UID:12883
DTEND:20181011T170000
DTSTART:20181011T160000
DTSTAMP:20260420T231206Z
LOCATION:Despond SA\, 1630 Bulle
DESCRIPTION:
SUMMARY:Rapport de session avec Pierre-André Page et Jean-François Rime
ORGANIZER:
URL;VALUE=URI:https://www.udc.ch/actualites/agenda/rapport-de-session-avec-pierre-andre-page-et-jean-francois-rime-3/
TRANSP:OPAQUE
END:VEVENT
END:VCALENDAR
