

BEGIN:VCALENDAR
VERSION:2.0
PRODID:-//UDC Suisse //NONSGML Events //EN
CALSCALE:GREGORIAN
X-WR-CALNAME:UDC Suisse
BEGIN:VEVENT
CREATED:20250624T072718Z
UID:128914
DTEND:20250705T120000
DTSTART:20250705T110000
DTSTAMP:20260421T153417Z
LOCATION:Halle polyvalente\, Kasernenstrassse 15\, 3014 Berne
DESCRIPTION:Pour plus d'informations, voir https://dufour150.ch/fr/. Télécharger
SUMMARY:Christoph Blocher s’exprime à l’occasion du 150e anniversaire de la mort de : « Guillaume Henri Dufour et son importance pour la Suisse »
ORGANIZER:
URL;VALUE=URI:https://www.udc.ch/actualites/agenda/christoph-blocher-sexprime-a-loccasion-du-150e-anniversaire-de-la-mort-de-guillaume-henri-dufour-et-son-importance-pour-la-suisse/
TRANSP:OPAQUE
END:VEVENT
END:VCALENDAR
