

BEGIN:VCALENDAR
VERSION:2.0
PRODID:-//UDC Suisse //NONSGML Events //EN
CALSCALE:GREGORIAN
X-WR-CALNAME:UDC Suisse
BEGIN:VEVENT
CREATED:20251212T083336Z
UID:130769
DTEND:20260124T170000
DTSTART:20260124T100000
DTSTAMP:20260422T161110Z
LOCATION:Lintharena AG\, Oberurnerstrasse 14\, 8752 Näfels (GL)
DESCRIPTION:
SUMMARY:L’Assemblée des Délégués de l’UDC Suisse du 24 janvier 2026
ORGANIZER:UDC CH
URL;VALUE=URI:https://www.udc.ch/actualites/agenda/lassemblee-des-delegues-de-ludc-suisse-du-24-janvier-2026/
TRANSP:OPAQUE
END:VEVENT
END:VCALENDAR
