

BEGIN:VCALENDAR
VERSION:2.0
PRODID:-//UDC Suisse //NONSGML Events //EN
CALSCALE:GREGORIAN
X-WR-CALNAME:UDC Suisse
BEGIN:VEVENT
CREATED:20251212T083343Z
UID:130826
DTEND:20260501T000000
DTSTART:20260427T000000
DTSTAMP:20260420T084335Z
LOCATION:
DESCRIPTION:
SUMMARY:Session extraordinaire
ORGANIZER:
URL;VALUE=URI:https://www.udc.ch/actualites/agenda/session-extraordinaire-2/
TRANSP:OPAQUE
END:VEVENT
END:VCALENDAR
