

BEGIN:VCALENDAR
VERSION:2.0
PRODID:-//UDC Suisse //NONSGML Events //EN
CALSCALE:GREGORIAN
X-WR-CALNAME:UDC Suisse
BEGIN:VEVENT
CREATED:20251219T054652Z
UID:131063
DTEND:20261220T110000
DTSTART:20261220T100000
DTSTAMP:20260424T122241Z
LOCATION:Restaurant Schützen\, 5001 Aarau
DESCRIPTION:
SUMMARY:UDC proche de vous avec la Conseillère nationale Stefanie Heimgartner
ORGANIZER:
URL;VALUE=URI:https://www.udc.ch/actualites/agenda/udc-proche-de-vous-avec-la-conseillere-nationale-stefanie-heimgartner-2/
TRANSP:OPAQUE
END:VEVENT
END:VCALENDAR
