

BEGIN:VCALENDAR
VERSION:2.0
PRODID:-//UDC Suisse //NONSGML Events //EN
CALSCALE:GREGORIAN
X-WR-CALNAME:UDC Suisse
BEGIN:VEVENT
CREATED:20181107T130122Z
UID:13200
DTEND:20180217T000000
DTSTART:20180217T000000
DTSTAMP:20260420T212540Z
LOCATION:
DESCRIPTION:
SUMMARY:Coupe de jass
ORGANIZER:
URL;VALUE=URI:https://www.udc.ch/actualites/agenda/coupe-de-yass-3-2/
TRANSP:OPAQUE
END:VEVENT
END:VCALENDAR
